BEGIN:VCALENDAR
VERSION:2.0
PRODID:-//Agricola Dell&#039; Arneo - ECPv6.15.15//NONSGML v1.0//EN
CALSCALE:GREGORIAN
METHOD:PUBLISH
X-ORIGINAL-URL:https://www.agricoladellarneo.it
X-WR-CALDESC:Eventi per Agricola Dell&#039; Arneo
REFRESH-INTERVAL;VALUE=DURATION:PT1H
X-Robots-Tag:noindex
X-PUBLISHED-TTL:PT1H
BEGIN:VTIMEZONE
TZID:UTC
BEGIN:STANDARD
TZOFFSETFROM:+0000
TZOFFSETTO:+0000
TZNAME:UTC
DTSTART:20230101T000000
END:STANDARD
END:VTIMEZONE
BEGIN:VEVENT
DTSTART;TZID=UTC:20250920T203000
DTEND;TZID=UTC:20250920T233000
DTSTAMP:20260419T121438
CREATED:20250913T194559Z
LAST-MODIFIED:20250913T194559Z
UID:12342-1758400200-1758411000@www.agricoladellarneo.it
SUMMARY:Crimini in coppia
DESCRIPTION:
URL:https://www.agricoladellarneo.it/event/crimini-in-coppia/
LOCATION:Masseria signora porzia\, Via Vicinale Cerasa n.4\, LEVERANO\, LECCE\, 73045\, Italia
CATEGORIES:Eventi Agricola dell'Arneo,Eventi Masseria Signora Porzia
ATTACH;FMTTYPE=image/jpeg:https://www.agricoladellarneo.it/wp-content/uploads/2025/09/WhatsApp-Image-2025-09-10-at-10.28.21.jpeg
ORGANIZER;CN="Masseria Signora Porzia":MAILTO:info@agricoladellarneo.it
END:VEVENT
BEGIN:VEVENT
DTSTART;VALUE=DATE:20250518
DTEND;VALUE=DATE:20250519
DTSTAMP:20260419T121438
CREATED:20250515T082145Z
LAST-MODIFIED:20250515T082359Z
UID:12311-1747526400-1747612799@www.agricoladellarneo.it
SUMMARY:A Ruota Libera
DESCRIPTION:Preparati a pedalare tra i paesaggi più incantevoli del nostro territorio con La Via del Mare: un percorso cicloturistico ad anello pensato per chi ama la natura\, la libertà e la scoperta.\nL’appuntamento è alle 10:00 presso Masseria Signora Porzia\, dove ti accoglieremo con un caffè caldo e tanta energia per partire insieme in questa avventura sulle due ruote.\nAl ritorno\, la Masseria si trasformerà nel luogo perfetto per rilassarsi e festeggiare: un aperitivo ricco di sapori e la musica live creeranno l’atmosfera ideale per condividere emozioni e sorrisi dopo una giornata indimenticabile.\nVieni a vivere “A ruota libera” – la libertà di pedalare\, scoprire e stare insieme.
URL:https://www.agricoladellarneo.it/event/a-ruota-libera/
LOCATION:Masseria signora porzia\, Via Vicinale Cerasa n.4\, LEVERANO\, LECCE\, 73045\, Italia
CATEGORIES:Eventi Agricola dell'Arneo,Eventi Leverano,Eventi Masseria Signora Porzia
ATTACH;FMTTYPE=image/jpeg:https://www.agricoladellarneo.it/wp-content/uploads/2025/05/WhatsApp-Image-2025-05-15-at-08.49.50.jpeg
END:VEVENT
BEGIN:VEVENT
DTSTART;VALUE=DATE:20250518
DTEND;VALUE=DATE:20250519
DTSTAMP:20260419T121438
CREATED:20250515T081708Z
LAST-MODIFIED:20250515T082238Z
UID:12308-1747526400-1747612799@www.agricoladellarneo.it
SUMMARY:Terrazza diVini Tramonti.
DESCRIPTION:Masseria Signora Porzia presenta per la prima volta al tramonto la Terrazza diVini Tramonti. \nUn momento speciale\, fatto di incontri\, calici e sapori genuini: vi aspetta un aperitivo accompagnato da una selezione raffinata di vini che parlano la lingua della terra e del sole. Vi aspettiamo!
URL:https://www.agricoladellarneo.it/event/terrazza-divini-tramonti/
LOCATION:Masseria signora porzia\, Via Vicinale Cerasa n.4\, LEVERANO\, LECCE\, 73045\, Italia
CATEGORIES:Eventi Agricola dell'Arneo,Eventi Leverano,Eventi Masseria Signora Porzia
ATTACH;FMTTYPE=image/jpeg:https://www.agricoladellarneo.it/wp-content/uploads/2025/05/WhatsApp-Image-2025-05-15-at-08.49.31.jpeg
ORGANIZER;CN="Masseria Signora Porzia":MAILTO:info@agricoladellarneo.it
END:VEVENT
BEGIN:VEVENT
DTSTART;VALUE=DATE:20240722
DTEND;VALUE=DATE:20240723
DTSTAMP:20260419T121438
CREATED:20240709T105102Z
LAST-MODIFIED:20240709T105102Z
UID:12274-1721606400-1721692799@www.agricoladellarneo.it
SUMMARY:Costruire Legàmi: per un turismo di comunità 🌐
DESCRIPTION:MASSERIA SIGNORA PORZIA – laboratorio di pasta e apericena 🍝🥂 \nSAVE THE DATES: 📅 lunedì 8 luglio\, lunedì 22 luglio \nMasseria Signora Porzia è la sede della Società Agricola dell’Arneo\, un’azienda operante nel settore della produzione\, trasformazione e imbottigliamento di vini tipici del Salento 🍇🍷. Da qualche anno persegue l’obiettivo della promozione e della salvaguarda delle tradizioni locali della Terra d’Arneo 🌾. \nUn salto nel passato\, nel mangiare sano e genuino e nelle tradizioni contadine 🌿. \nLaboratorio di preparazione della pasta fatta in casa con farina di grano duro di produzione locale 👩‍🍳. \nL’esperienza è aperta a tutti! 🎉 \nA conclusione ci sarà un aperitivo durante il quale potrete degustare la pasta preparata a casa e altre specialità della masseria 🍽️\, il tutto accompagnato dal vino Li Cunti\, una delle ultime produzioni della Cantina 🍷. \n📍Punto di ritrovo: Masseria Signora Porzia\, Strada Vicinale Cerasa\, 4\, Leverano. \n📣 START: ore 19.00; l’esperienza ha una durata di circa 1h 30 min ⏰. \nPrenotazioni entro il 7 luglio (per l’esperienza dell’8 luglio) ed entro il 21 luglio (per l’esperienza del 22 luglio) 🗓️. \nPer maggiori info e prenotazioni: whatsapp: 3293857011 📱 email: info.costruirelegami@gmail.com
URL:https://www.agricoladellarneo.it/event/costruire-legami-per-un-turismo-di-comunita-%f0%9f%8c%90-2/
LOCATION:Masseria signora porzia\, Via Vicinale Cerasa n.4\, LEVERANO\, LECCE\, 73045\, Italia
CATEGORIES:Eventi Agricola dell'Arneo,Eventi Leverano,Eventi Masseria Signora Porzia
ORGANIZER;CN="Masseria Signora Porzia":MAILTO:info@agricoladellarneo.it
END:VEVENT
BEGIN:VEVENT
DTSTART;VALUE=DATE:20240708
DTEND;VALUE=DATE:20240709
DTSTAMP:20260419T121438
CREATED:20240709T104948Z
LAST-MODIFIED:20240709T104948Z
UID:12272-1720396800-1720483199@www.agricoladellarneo.it
SUMMARY:Costruire Legàmi: per un turismo di comunità 🌐
DESCRIPTION:MASSERIA SIGNORA PORZIA – laboratorio di pasta e apericena 🍝🥂 \nSAVE THE DATES: 📅 lunedì 8 luglio\, lunedì 22 luglio \nMasseria Signora Porzia è la sede della Società Agricola dell’Arneo\, un’azienda operante nel settore della produzione\, trasformazione e imbottigliamento di vini tipici del Salento 🍇🍷. Da qualche anno persegue l’obiettivo della promozione e della salvaguarda delle tradizioni locali della Terra d’Arneo 🌾. \nUn salto nel passato\, nel mangiare sano e genuino e nelle tradizioni contadine 🌿. \nLaboratorio di preparazione della pasta fatta in casa con farina di grano duro di produzione locale 👩‍🍳. \nL’esperienza è aperta a tutti! 🎉 \nA conclusione ci sarà un aperitivo durante il quale potrete degustare la pasta preparata a casa e altre specialità della masseria 🍽️\, il tutto accompagnato dal vino Li Cunti\, una delle ultime produzioni della Cantina 🍷. \n📍Punto di ritrovo: Masseria Signora Porzia\, Strada Vicinale Cerasa\, 4\, Leverano. \n📣 START: ore 19.00; l’esperienza ha una durata di circa 1h 30 min ⏰. \nPrenotazioni entro il 7 luglio (per l’esperienza dell’8 luglio) ed entro il 21 luglio (per l’esperienza del 22 luglio) 🗓️. \nPer maggiori info e prenotazioni: whatsapp: 3293857011 📱 email: info.costruirelegami@gmail.com
URL:https://www.agricoladellarneo.it/event/costruire-legami-per-un-turismo-di-comunita-%f0%9f%8c%90/
LOCATION:Masseria signora porzia\, Via Vicinale Cerasa n.4\, LEVERANO\, LECCE\, 73045\, Italia
CATEGORIES:Eventi Agricola dell'Arneo,Eventi Leverano,Eventi Masseria Signora Porzia
ORGANIZER;CN="Masseria Signora Porzia":MAILTO:info@agricoladellarneo.it
END:VEVENT
BEGIN:VEVENT
DTSTART;TZID=UTC:20240610T080000
DTEND;TZID=UTC:20240727T170000
DTSTAMP:20260419T121438
CREATED:20240508T081655Z
LAST-MODIFIED:20240508T081655Z
UID:12128-1718006400-1722099600@www.agricoladellarneo.it
SUMMARY:Campo Estivo 2024 Masseria
DESCRIPTION:📍si svolgerà presso Masseria Signora Porzia\, via vicinale cerasa\, Leverano. \n🗓️periodo: dal 10 giugno al 27 luglio\, dal lunedì al sabato.\nfascia oraria: 8:00 – 14:00.\n💰prezzo: 75€ cadauno a settimana\, IVA inclusa. \n🍳🪴♻️attività: Laboratori di CUCINA\, GIARDINAGGIO\, CREATIVITÀ E RICICLO\, ATTIVITÀ ARTIGIANALI\, ESCURSIONI NATURALISTICHE. \n🏐🏀🕺🏻giochi e sport all’aria aperta: PING PONG\, SCACCHI\, MINI VOLLEY\, CALCIO BALILLA\, BALLO. \n🍪🍉🧃La merenda\, fatta in casa e con prodotti salutari\, è gentilmente offerta dalla struttura ospitante. \n🎒👚👟si consigliano un abbigliamento comodo e scarpe da ginnastica\, è inoltre opportuno dotarsi di uno zainetto contenente cappellino\, borraccia e indumenti di scorta.
URL:https://www.agricoladellarneo.it/event/campo-estivo-2024-masseria/
LOCATION:Masseria signora porzia\, Via Vicinale Cerasa n.4\, LEVERANO\, LECCE\, 73045\, Italia
CATEGORIES:Eventi Masseria Signora Porzia
ATTACH;FMTTYPE=image/jpeg:https://www.agricoladellarneo.it/wp-content/uploads/2024/05/campo-estivo-2024.jpg
ORGANIZER;CN="Masseria Signora Porzia":MAILTO:info@agricoladellarneo.it
END:VEVENT
END:VCALENDAR